BEGIN:VCALENDAR
VERSION:2.0
PRODID:-//Evangelische Kirchen in Eschwege - ECPv6.15.20//NONSGML v1.0//EN
CALSCALE:GREGORIAN
METHOD:PUBLISH
X-ORIGINAL-URL:https://ekeschwege.de
X-WR-CALDESC:Veranstaltungen für Evangelische Kirchen in Eschwege
REFRESH-INTERVAL;VALUE=DURATION:PT1H
X-Robots-Tag:noindex
X-PUBLISHED-TTL:PT1H
BEGIN:VTIMEZONE
TZID:Europe/Berlin
BEGIN:DAYLIGHT
TZOFFSETFROM:+0100
TZOFFSETTO:+0200
TZNAME:CEST
DTSTART:20250330T010000
END:DAYLIGHT
BEGIN:STANDARD
TZOFFSETFROM:+0200
TZOFFSETTO:+0100
TZNAME:CET
DTSTART:20251026T010000
END:STANDARD
BEGIN:DAYLIGHT
TZOFFSETFROM:+0100
TZOFFSETTO:+0200
TZNAME:CEST
DTSTART:20260329T010000
END:DAYLIGHT
BEGIN:STANDARD
TZOFFSETFROM:+0200
TZOFFSETTO:+0100
TZNAME:CET
DTSTART:20261025T010000
END:STANDARD
BEGIN:DAYLIGHT
TZOFFSETFROM:+0100
TZOFFSETTO:+0200
TZNAME:CEST
DTSTART:20270328T010000
END:DAYLIGHT
BEGIN:STANDARD
TZOFFSETFROM:+0200
TZOFFSETTO:+0100
TZNAME:CET
DTSTART:20271031T010000
END:STANDARD
END:VTIMEZONE
BEGIN:VEVENT
DTSTART;TZID=Europe/Berlin:20260402T180000
DTEND;TZID=Europe/Berlin:20260402T190000
DTSTAMP:20260419T205910
CREATED:20260311T093519Z
LAST-MODIFIED:20260311T093519Z
UID:10002112-1775152800-1775156400@ekeschwege.de
SUMMARY:Mahlgemeinschaft am Tisch - entfällt
DESCRIPTION:der im Gemeindebrief angekündigte Gottesdienst „Mahlgemeinschaft am Tisch“ um 18.00 Uhr im Gemeindehaus Marktkirche entfällt.
URL:https://ekeschwege.de/veranstaltungen/mahlgemeinschaft-am-tisch-entfaellt/
LOCATION:Gemeindehaus Marktkirche\, Bei der Makrtkirche 5\, Eschwege\, 27369\, Deutschland
CATEGORIES:Gottesdienste
END:VEVENT
BEGIN:VEVENT
DTSTART;TZID=Europe/Berlin:20260402T180000
DTEND;TZID=Europe/Berlin:20260402T190000
DTSTAMP:20260419T205910
CREATED:20260311T093837Z
LAST-MODIFIED:20260311T141052Z
UID:10002113-1775152800-1775156400@ekeschwege.de
SUMMARY:Auferstehungskirche Gründonnerstag - Taizé-Gesänge und Abendmahl
DESCRIPTION:Gesänge aus Taizé. Meditative Texte. Abendmahl. Gemeinschaft ohne Worte. \n 
URL:https://ekeschwege.de/veranstaltungen/gruendonnerstag-taize-gesaenge-und-abendmahl/
LOCATION:Auferstehungskirche\, Kastanienweg 8\, Eschwege\, 37218\, Deutschland
CATEGORIES:Gottesdienste
ATTACH;FMTTYPE=image/png:https://ekeschwege.de/wp-content/uploads/2026/03/Taize.png
END:VEVENT
BEGIN:VEVENT
DTSTART;TZID=Europe/Berlin:20260402T193000
DTEND;TZID=Europe/Berlin:20260402T200000
DTSTAMP:20260419T205910
CREATED:20260311T091401Z
LAST-MODIFIED:20260311T091401Z
UID:10002110-1775158200-1775160000@ekeschwege.de
SUMMARY:Passionsandacht - Zeit der Stille
DESCRIPTION:
URL:https://ekeschwege.de/veranstaltungen/passionsandacht-zeit-der-stille-4/
LOCATION:Kreuzkirche\, Rudolf-Clermont-Weg 1\, Eschwege\, 37269\, Deutschland
CATEGORIES:Gemeindeveranstaltungen
ATTACH;FMTTYPE=image/png:https://ekeschwege.de/wp-content/uploads/2026/03/Kreuz-Ausschnitt-1.png
END:VEVENT
END:VCALENDAR