BEGIN:VCALENDAR
VERSION:2.0
PRODID:-//Evangelische Kirchen in Eschwege - ECPv6.15.20//NONSGML v1.0//EN
CALSCALE:GREGORIAN
METHOD:PUBLISH
X-WR-CALNAME:Evangelische Kirchen in Eschwege
X-ORIGINAL-URL:https://ekeschwege.de
X-WR-CALDESC:Veranstaltungen für Evangelische Kirchen in Eschwege
REFRESH-INTERVAL;VALUE=DURATION:PT1H
X-Robots-Tag:noindex
X-PUBLISHED-TTL:PT1H
BEGIN:VTIMEZONE
TZID:Europe/Berlin
BEGIN:DAYLIGHT
TZOFFSETFROM:+0100
TZOFFSETTO:+0200
TZNAME:CEST
DTSTART:20250330T010000
END:DAYLIGHT
BEGIN:STANDARD
TZOFFSETFROM:+0200
TZOFFSETTO:+0100
TZNAME:CET
DTSTART:20251026T010000
END:STANDARD
BEGIN:DAYLIGHT
TZOFFSETFROM:+0100
TZOFFSETTO:+0200
TZNAME:CEST
DTSTART:20260329T010000
END:DAYLIGHT
BEGIN:STANDARD
TZOFFSETFROM:+0200
TZOFFSETTO:+0100
TZNAME:CET
DTSTART:20261025T010000
END:STANDARD
BEGIN:DAYLIGHT
TZOFFSETFROM:+0100
TZOFFSETTO:+0200
TZNAME:CEST
DTSTART:20270328T010000
END:DAYLIGHT
BEGIN:STANDARD
TZOFFSETFROM:+0200
TZOFFSETTO:+0100
TZNAME:CET
DTSTART:20271031T010000
END:STANDARD
END:VTIMEZONE
BEGIN:VEVENT
DTSTART;TZID=Europe/Berlin:20260403T100000
DTEND;TZID=Europe/Berlin:20260403T110000
DTSTAMP:20260419T224131
CREATED:20260311T094354Z
LAST-MODIFIED:20260311T141022Z
UID:10002114-1775210400-1775214000@ekeschwege.de
SUMMARY:Auferstehungskirche Karfreitag - Predigtgottesdienst
DESCRIPTION:Gemeinsamer Gottesdienst mit Pfr. Meister.
URL:https://ekeschwege.de/veranstaltungen/karfreitag-predigtgottesdienst/
LOCATION:Auferstehungskirche\, Kastanienweg 8\, Eschwege\, 37218\, Deutschland
CATEGORIES:Gottesdienste
END:VEVENT
BEGIN:VEVENT
DTSTART;TZID=Europe/Berlin:20260403T150000
DTEND;TZID=Europe/Berlin:20260403T160000
DTSTAMP:20260419T224131
CREATED:20260311T100807Z
LAST-MODIFIED:20260311T140934Z
UID:10002115-1775228400-1775232000@ekeschwege.de
SUMMARY:Marktkirche Karfreitag - Musikalische Andacht zur Todesstunde Jesu
DESCRIPTION:Lesung der Passionsgeschichte aus dem Johannisevangelium. Es musizieren Regine Brunke\, Cello und Juliane Baumann-Kremzow\, Tasten. Liturgie: Pfrin. Rudolph
URL:https://ekeschwege.de/veranstaltungen/karfreitag-musikalische-andacht-zur-todesstunde-jesu/
LOCATION:Marktkirche\, Kirchgasse 3\, Eschwege\, 37218\, Deutschland
CATEGORIES:Gottesdienste
ATTACH;FMTTYPE=image/jpeg:https://ekeschwege.de/wp-content/uploads/2026/03/Karfreitag_MK-scaled.jpg
END:VEVENT
BEGIN:VEVENT
DTSTART;TZID=Europe/Berlin:20260403T150000
DTEND;TZID=Europe/Berlin:20260403T160000
DTSTAMP:20260419T224131
CREATED:20260311T100939Z
LAST-MODIFIED:20260311T140910Z
UID:10002116-1775228400-1775232000@ekeschwege.de
SUMMARY:Kreuzkirche Karfreitag - Andacht zur Todesstunde Jesu
DESCRIPTION:Zeit der Stille – Abschluss der Passionsandachten
URL:https://ekeschwege.de/veranstaltungen/karfreitag-andacht-zur-todesstunde-jesu/
LOCATION:Kreuzkirche\, Rudolf-Clermont-Weg 1\, Eschwege\, 37269\, Deutschland
CATEGORIES:Gottesdienste
ATTACH;FMTTYPE=image/png:https://ekeschwege.de/wp-content/uploads/2026/03/Kreuz.png
END:VEVENT
END:VCALENDAR