BEGIN:VCALENDAR
VERSION:2.0
PRODID:-//Evangelische Kirchen in Eschwege - ECPv6.15.20//NONSGML v1.0//EN
CALSCALE:GREGORIAN
METHOD:PUBLISH
X-ORIGINAL-URL:https://ekeschwege.de
X-WR-CALDESC:Veranstaltungen für Evangelische Kirchen in Eschwege
REFRESH-INTERVAL;VALUE=DURATION:PT1H
X-Robots-Tag:noindex
X-PUBLISHED-TTL:PT1H
BEGIN:VTIMEZONE
TZID:Europe/Berlin
BEGIN:DAYLIGHT
TZOFFSETFROM:+0100
TZOFFSETTO:+0200
TZNAME:CEST
DTSTART:20250330T010000
END:DAYLIGHT
BEGIN:STANDARD
TZOFFSETFROM:+0200
TZOFFSETTO:+0100
TZNAME:CET
DTSTART:20251026T010000
END:STANDARD
BEGIN:DAYLIGHT
TZOFFSETFROM:+0100
TZOFFSETTO:+0200
TZNAME:CEST
DTSTART:20260329T010000
END:DAYLIGHT
BEGIN:STANDARD
TZOFFSETFROM:+0200
TZOFFSETTO:+0100
TZNAME:CET
DTSTART:20261025T010000
END:STANDARD
BEGIN:DAYLIGHT
TZOFFSETFROM:+0100
TZOFFSETTO:+0200
TZNAME:CEST
DTSTART:20270328T010000
END:DAYLIGHT
BEGIN:STANDARD
TZOFFSETFROM:+0200
TZOFFSETTO:+0100
TZNAME:CET
DTSTART:20271031T010000
END:STANDARD
END:VTIMEZONE
BEGIN:VEVENT
DTSTART;TZID=Europe/Berlin:20260405T060000
DTEND;TZID=Europe/Berlin:20260405T070000
DTSTAMP:20260419T224358
CREATED:20260311T101427Z
LAST-MODIFIED:20260311T140810Z
UID:10002118-1775368800-1775372400@ekeschwege.de
SUMMARY:Neustädter Kirche Osternacht zum Tagesanbruch
DESCRIPTION:anschließend Osterfrühstück im Gemeindehaus Rosengasse\, Pfrin. Rudolph
URL:https://ekeschwege.de/veranstaltungen/osternacht-zum-tagesanbruch/
LOCATION:Neustädter Kirche\, Kirchplatz 7\, Eschwege\, 37269\, Deutschland
CATEGORIES:Gottesdienste
ATTACH;FMTTYPE=image/jpeg:https://ekeschwege.de/wp-content/uploads/2026/03/k-DSCF1791.jpg
END:VEVENT
BEGIN:VEVENT
DTSTART;TZID=Europe/Berlin:20260405T100000
DTEND;TZID=Europe/Berlin:20260405T110000
DTSTAMP:20260419T224358
CREATED:20260311T101630Z
LAST-MODIFIED:20260311T140746Z
UID:10002119-1775383200-1775386800@ekeschwege.de
SUMMARY:Marktkirche Ostergottesdienst mit Abendmahl
DESCRIPTION:Vertretung noch offen
URL:https://ekeschwege.de/veranstaltungen/ostergottesdienst-mit-abendmahl/
LOCATION:Marktkirche\, Kirchgasse 3\, Eschwege\, 37218\, Deutschland
CATEGORIES:Gottesdienste
ATTACH;FMTTYPE=image/jpeg:https://ekeschwege.de/wp-content/uploads/2026/03/Ostern_2025_1-scaled.jpg
END:VEVENT
END:VCALENDAR